BEGIN:VCALENDAR
VERSION:2.0
PRODID:-//D.O.C. Mittelfranken - ECPv6.15.20//NONSGML v1.0//EN
CALSCALE:GREGORIAN
METHOD:PUBLISH
X-ORIGINAL-URL:https://www.doc-mittelfranken.de
X-WR-CALDESC:Veranstaltungen für D.O.C. Mittelfranken
REFRESH-INTERVAL;VALUE=DURATION:PT1H
X-Robots-Tag:noindex
X-PUBLISHED-TTL:PT1H
BEGIN:VTIMEZONE
TZID:UTC
BEGIN:STANDARD
TZOFFSETFROM:+0000
TZOFFSETTO:+0000
TZNAME:UTC
DTSTART:20240101T000000
END:STANDARD
END:VTIMEZONE
BEGIN:VEVENT
DTSTART;TZID=UTC:20251206T170000
DTEND;TZID=UTC:20251206T220000
DTSTAMP:20260422T224620
CREATED:20250317T120654Z
LAST-MODIFIED:20251023T070029Z
UID:488-1765040400-1765058400@www.doc-mittelfranken.de
SUMMARY:Stammtisch Dezember
DESCRIPTION:Stammtisch auf dem Weihnachtsmarkt \nweitere Infos folgen
URL:https://www.doc-mittelfranken.de/event/stammtisch-dezember/
END:VEVENT
END:VCALENDAR