BEGIN:VCALENDAR
VERSION:2.0
PRODID:-//D.O.C. Mittelfranken - ECPv6.15.20//NONSGML v1.0//EN
CALSCALE:GREGORIAN
METHOD:PUBLISH
X-WR-CALNAME:D.O.C. Mittelfranken
X-ORIGINAL-URL:https://www.doc-mittelfranken.de
X-WR-CALDESC:Veranstaltungen für D.O.C. Mittelfranken
REFRESH-INTERVAL;VALUE=DURATION:PT1H
X-Robots-Tag:noindex
X-PUBLISHED-TTL:PT1H
BEGIN:VTIMEZONE
TZID:UTC
BEGIN:STANDARD
TZOFFSETFROM:+0000
TZOFFSETTO:+0000
TZNAME:UTC
DTSTART:20240101T000000
END:STANDARD
END:VTIMEZONE
BEGIN:VTIMEZONE
TZID:Europe/Paris
BEGIN:DAYLIGHT
TZOFFSETFROM:+0100
TZOFFSETTO:+0200
TZNAME:CEST
DTSTART:20240331T010000
END:DAYLIGHT
BEGIN:STANDARD
TZOFFSETFROM:+0200
TZOFFSETTO:+0100
TZNAME:CET
DTSTART:20241027T010000
END:STANDARD
BEGIN:DAYLIGHT
TZOFFSETFROM:+0100
TZOFFSETTO:+0200
TZNAME:CEST
DTSTART:20250330T010000
END:DAYLIGHT
BEGIN:STANDARD
TZOFFSETFROM:+0200
TZOFFSETTO:+0100
TZNAME:CET
DTSTART:20251026T010000
END:STANDARD
BEGIN:DAYLIGHT
TZOFFSETFROM:+0100
TZOFFSETTO:+0200
TZNAME:CEST
DTSTART:20260329T010000
END:DAYLIGHT
BEGIN:STANDARD
TZOFFSETFROM:+0200
TZOFFSETTO:+0100
TZNAME:CET
DTSTART:20261025T010000
END:STANDARD
END:VTIMEZONE
BEGIN:VEVENT
DTSTART;TZID=UTC:20250706T120000
DTEND;TZID=UTC:20250706T180000
DTSTAMP:20260423T052516
CREATED:20231009T093336Z
LAST-MODIFIED:20251023T071515Z
UID:359-1751803200-1751824800@www.doc-mittelfranken.de
SUMMARY:Stammtisch Juli
DESCRIPTION:weitere Infos folgen
URL:https://www.doc-mittelfranken.de/event/stammtisch-november-burgeressen/
END:VEVENT
BEGIN:VEVENT
DTSTART;VALUE=DATE:20250719
DTEND;VALUE=DATE:20250721
DTSTAMP:20260423T052516
CREATED:20230602T102459Z
LAST-MODIFIED:20251023T071459Z
UID:262-1752883200-1753055999@www.doc-mittelfranken.de
SUMMARY:2. D.O.C. Ducati Days 2025
DESCRIPTION:Bist du bereit für ein unvergessliches Wochenende voller Adrenalin\, Begeisterung und Ducati-Action? Dann sei dabei bei den 2. D.O.C. Ducati Days 2023 am Technik Museum Sinsheim! \nLass dich von der Welt der Ducati-Modelle verzaubern und triff Gleichgesinnte\, die deine Leidenschaft für die rote Marke teilen. \nHighlights: \n\nAussteller & Produkte\nProbefahrten aktueller Modelle\nFahrwerksservice vor Ort\n\n\n\nZeig uns deine Ducati-Momente! Teile Fotos von deinem Bike\, deinen Ausfahrten oder deiner Vorbereitung auf die D.O.C. Ducati Days mit dem Hashtag #DOCDucatiDays. \nFolge uns für Updates\, Neuigkeiten und um keine spannenden Ducati-Momente zu verpassen. Lass uns gemeinsam die Vorfreude auf das Event steigern!
URL:https://www.doc-mittelfranken.de/event/d-o-c-ducati-days-2023/
LOCATION:Technik Museum Sinsheim\, Museumsplatz 1\, Sinsheim\, 74889\, Deutschland
END:VEVENT
END:VCALENDAR