BEGIN:VCALENDAR
VERSION:2.0
PRODID:-//D.O.C. Mittelfranken - ECPv6.15.20//NONSGML v1.0//EN
CALSCALE:GREGORIAN
METHOD:PUBLISH
X-WR-CALNAME:D.O.C. Mittelfranken
X-ORIGINAL-URL:https://www.doc-mittelfranken.de
X-WR-CALDESC:Veranstaltungen für D.O.C. Mittelfranken
REFRESH-INTERVAL;VALUE=DURATION:PT1H
X-Robots-Tag:noindex
X-PUBLISHED-TTL:PT1H
BEGIN:VTIMEZONE
TZID:UTC
BEGIN:STANDARD
TZOFFSETFROM:+0000
TZOFFSETTO:+0000
TZNAME:UTC
DTSTART:20250101T000000
END:STANDARD
END:VTIMEZONE
BEGIN:VEVENT
DTSTART;TZID=UTC:20260501T080000
DTEND;TZID=UTC:20260501T170000
DTSTAMP:20260422T102007
CREATED:20260408T084727Z
LAST-MODIFIED:20260408T084727Z
UID:540-1777622400-1777654800@www.doc-mittelfranken.de
SUMMARY:1.Mai Treffen Münchner Strasse
DESCRIPTION:Das jährliche 1.-Mai-Treffen auf der Münchner Straße steht an.Der Treffpunkt wird noch bekannt gegeben.
URL:https://www.doc-mittelfranken.de/event/1-mai-treffen-muenchner-strasse/
END:VEVENT
BEGIN:VEVENT
DTSTART;TZID=UTC:20260503T080000
DTEND;TZID=UTC:20260503T170000
DTSTAMP:20260422T102007
CREATED:20260408T084936Z
LAST-MODIFIED:20260408T084936Z
UID:542-1777795200-1777827600@www.doc-mittelfranken.de
SUMMARY:Fototermin für "We Ride as One"
DESCRIPTION:genaue Uhrzeit folgt
URL:https://www.doc-mittelfranken.de/event/fototermin-fuer-we-ride-as-one/
LOCATION:Max-Morlock-Station\, Max Morlock Platz 1\, Nürnberg\, 90471
END:VEVENT
BEGIN:VEVENT
DTSTART;TZID=UTC:20260523T083000
DTEND;TZID=UTC:20260523T170000
DTSTAMP:20260422T102007
CREATED:20230530T082825Z
LAST-MODIFIED:20260408T085345Z
UID:77-1779525000-1779555600@www.doc-mittelfranken.de
SUMMARY:Kurvenintensivtraining\, ADAC Schlüsselfeld
DESCRIPTION:Kurvenintensivtraining\, ADAC Schlüsselfeld \n\nDucati Nürnberg veranstaltet wieder in Kooperation mit dem ADAC Nordbayern ein Fahrsicherheitstraining in Schlüsselfeld. Die Anmeldung erfolgt direkt online über eine Landingpage von der Feser-Gruppe.\nhttps://www.feser-graf.de/events/adac-motorrad-kurven-training\nVerpflegung ist inklusive\, eine Trainingskasko kann vor Ort über den ADAC gg. separate Gebühr abgeschlossen werden. Vorteil: Auch\, wenn ihr bereits eine Vollkasko über eure Kfz-Versicherung abgeschlossen habt\, würde die Trainingskasko “vorgreifen” und damit nicht euren Schadenfreiheitsrabatt belasten. Daher können wir diese Zusatzdeckung aus versicherungstechnischer Sicht euch empfehlen.
URL:https://www.doc-mittelfranken.de/event/stammtisch/
LOCATION:ADAC Schlüsselfeld\, ADAC Nordbayernstr. 1\, Schlüsselfeld\, 96132
END:VEVENT
BEGIN:VEVENT
DTSTART;TZID=UTC:20260607T120000
DTEND;TZID=UTC:20260607T153000
DTSTAMP:20260422T102007
CREATED:20260120T073035Z
LAST-MODIFIED:20260120T073035Z
UID:524-1780833600-1780846200@www.doc-mittelfranken.de
SUMMARY:Stammtisch Juni
DESCRIPTION:weitere Infos folgen
URL:https://www.doc-mittelfranken.de/event/stammtisch-juni-2/
END:VEVENT
BEGIN:VEVENT
DTSTART;TZID=UTC:20260703T080000
DTEND;TZID=UTC:20260705T170000
DTSTAMP:20260422T102007
CREATED:20260120T073119Z
LAST-MODIFIED:20260120T073119Z
UID:526-1783065600-1783270800@www.doc-mittelfranken.de
SUMMARY:World Ducati Week
DESCRIPTION:weitere Infos folgen
URL:https://www.doc-mittelfranken.de/event/world-ducati-week/
END:VEVENT
BEGIN:VEVENT
DTSTART;TZID=UTC:20260906T120000
DTEND;TZID=UTC:20260906T153000
DTSTAMP:20260422T102007
CREATED:20260120T073211Z
LAST-MODIFIED:20260120T073211Z
UID:528-1788696000-1788708600@www.doc-mittelfranken.de
SUMMARY:Stammtisch September
DESCRIPTION:weitere Infos folgen
URL:https://www.doc-mittelfranken.de/event/stammtisch-september/
END:VEVENT
BEGIN:VEVENT
DTSTART;TZID=UTC:20261004T120000
DTEND;TZID=UTC:20261004T153000
DTSTAMP:20260422T102007
CREATED:20260120T073238Z
LAST-MODIFIED:20260120T073348Z
UID:530-1791115200-1791127800@www.doc-mittelfranken.de
SUMMARY:Stammtisch Oktober
DESCRIPTION:weitere Infos folgen
URL:https://www.doc-mittelfranken.de/event/stammtisch-oktober-2/
END:VEVENT
BEGIN:VEVENT
DTSTART;TZID=UTC:20261101T120000
DTEND;TZID=UTC:20261101T153000
DTSTAMP:20260422T102007
CREATED:20260120T073314Z
LAST-MODIFIED:20260120T073314Z
UID:532-1793534400-1793547000@www.doc-mittelfranken.de
SUMMARY:Stammtisch November
DESCRIPTION:weitere Infos folgen
URL:https://www.doc-mittelfranken.de/event/stammtisch-november-2/
END:VEVENT
END:VCALENDAR