BEGIN:VCALENDAR
VERSION:2.0
PRODID:-//D.O.C. Mittelfranken - ECPv6.15.20//NONSGML v1.0//EN
CALSCALE:GREGORIAN
METHOD:PUBLISH
X-ORIGINAL-URL:https://www.doc-mittelfranken.de
X-WR-CALDESC:Veranstaltungen für D.O.C. Mittelfranken
REFRESH-INTERVAL;VALUE=DURATION:PT1H
X-Robots-Tag:noindex
X-PUBLISHED-TTL:PT1H
BEGIN:VTIMEZONE
TZID:UTC
BEGIN:STANDARD
TZOFFSETFROM:+0000
TZOFFSETTO:+0000
TZNAME:UTC
DTSTART:20250101T000000
END:STANDARD
END:VTIMEZONE
BEGIN:VEVENT
DTSTART;TZID=UTC:20260703T080000
DTEND;TZID=UTC:20260705T170000
DTSTAMP:20260422T173959
CREATED:20260120T073119Z
LAST-MODIFIED:20260120T073119Z
UID:526-1783065600-1783270800@www.doc-mittelfranken.de
SUMMARY:World Ducati Week
DESCRIPTION:weitere Infos folgen
URL:https://www.doc-mittelfranken.de/event/world-ducati-week/
END:VEVENT
END:VCALENDAR