BEGIN:VCALENDAR
VERSION:2.0
PRODID:-//D.O.C. Mittelfranken - ECPv6.15.20//NONSGML v1.0//EN
CALSCALE:GREGORIAN
METHOD:PUBLISH
X-WR-CALNAME:D.O.C. Mittelfranken
X-ORIGINAL-URL:https://www.doc-mittelfranken.de
X-WR-CALDESC:Veranstaltungen für D.O.C. Mittelfranken
REFRESH-INTERVAL;VALUE=DURATION:PT1H
X-Robots-Tag:noindex
X-PUBLISHED-TTL:PT1H
BEGIN:VTIMEZONE
TZID:UTC
BEGIN:STANDARD
TZOFFSETFROM:+0000
TZOFFSETTO:+0000
TZNAME:UTC
DTSTART:20250101T000000
END:STANDARD
END:VTIMEZONE
BEGIN:VEVENT
DTSTART;TZID=UTC:20260411T100000
DTEND;TZID=UTC:20260411T170000
DTSTAMP:20260422T191935
CREATED:20260120T072935Z
LAST-MODIFIED:20260408T084258Z
UID:522-1775901600-1775926800@www.doc-mittelfranken.de
SUMMARY:Saisonauftakt Ducati Nürnberg
DESCRIPTION:Saisonauftakt Ducati Nürnberg \nBenno-Strauß-Straße 15\, 90763 Fürth
URL:https://www.doc-mittelfranken.de/event/ride-as-one-2/
LOCATION:Ducati Nürnberg\, Benno-Strauß-Straße 15\, Fürth\, Bayern\, 90763\, Deutschland
END:VEVENT
END:VCALENDAR