BEGIN:VCALENDAR
VERSION:2.0
PRODID:-//D.O.C. Mittelfranken - ECPv6.15.20//NONSGML v1.0//EN
CALSCALE:GREGORIAN
METHOD:PUBLISH
X-ORIGINAL-URL:https://www.doc-mittelfranken.de
X-WR-CALDESC:Veranstaltungen für D.O.C. Mittelfranken
REFRESH-INTERVAL;VALUE=DURATION:PT1H
X-Robots-Tag:noindex
X-PUBLISHED-TTL:PT1H
BEGIN:VTIMEZONE
TZID:Europe/Paris
BEGIN:DAYLIGHT
TZOFFSETFROM:+0100
TZOFFSETTO:+0200
TZNAME:CEST
DTSTART:20240331T010000
END:DAYLIGHT
BEGIN:STANDARD
TZOFFSETFROM:+0200
TZOFFSETTO:+0100
TZNAME:CET
DTSTART:20241027T010000
END:STANDARD
BEGIN:DAYLIGHT
TZOFFSETFROM:+0100
TZOFFSETTO:+0200
TZNAME:CEST
DTSTART:20250330T010000
END:DAYLIGHT
BEGIN:STANDARD
TZOFFSETFROM:+0200
TZOFFSETTO:+0100
TZNAME:CET
DTSTART:20251026T010000
END:STANDARD
BEGIN:DAYLIGHT
TZOFFSETFROM:+0100
TZOFFSETTO:+0200
TZNAME:CEST
DTSTART:20260329T010000
END:DAYLIGHT
BEGIN:STANDARD
TZOFFSETFROM:+0200
TZOFFSETTO:+0100
TZNAME:CET
DTSTART:20261025T010000
END:STANDARD
END:VTIMEZONE
BEGIN:VEVENT
DTSTART;TZID=Europe/Paris:20251102T120000
DTEND;TZID=Europe/Paris:20251102T150000
DTSTAMP:20260423T025427
CREATED:20251023T070757Z
LAST-MODIFIED:20251023T071821Z
UID:507-1762084800-1762095600@www.doc-mittelfranken.de
SUMMARY:Stammtisch November
DESCRIPTION:Wann? Sonntag\, 02.11.2025\, ab 12:00 Uhr \nWo? Grüner Brauhaus\, Comödien-Platz 1\, 90762 Fürth \nWir freuen uns auf euch! P.S.: WDW-Planungen nicht vergessen. 🙂
URL:https://www.doc-mittelfranken.de/event/stammtisch-november/
LOCATION:Gruener Brauhaus\, Comödien-Platz 1\, Fürth\, Bayern\, 90762\, Germany
END:VEVENT
END:VCALENDAR