BEGIN:VCALENDAR
VERSION:2.0
PRODID:-//D.O.C. Mittelfranken - ECPv6.15.20//NONSGML v1.0//EN
CALSCALE:GREGORIAN
METHOD:PUBLISH
X-WR-CALNAME:D.O.C. Mittelfranken
X-ORIGINAL-URL:https://www.doc-mittelfranken.de
X-WR-CALDESC:Veranstaltungen für D.O.C. Mittelfranken
REFRESH-INTERVAL;VALUE=DURATION:PT1H
X-Robots-Tag:noindex
X-PUBLISHED-TTL:PT1H
BEGIN:VTIMEZONE
TZID:UTC
BEGIN:STANDARD
TZOFFSETFROM:+0000
TZOFFSETTO:+0000
TZNAME:UTC
DTSTART:20240101T000000
END:STANDARD
END:VTIMEZONE
BEGIN:VEVENT
DTSTART;TZID=UTC:20251011T120000
DTEND;TZID=UTC:20251011T230000
DTSTAMP:20260423T024535
CREATED:20250317T120516Z
LAST-MODIFIED:20251023T071138Z
UID:484-1760184000-1760223600@www.doc-mittelfranken.de
SUMMARY:Saisonabschluss Teil 1 mit Ausfahrt und privater Feier
DESCRIPTION:weiter Infos folgen
URL:https://www.doc-mittelfranken.de/event/saisonabschluss-teil-1-mit-ausfahrt-und-privater-feier/
END:VEVENT
END:VCALENDAR