BEGIN:VCALENDAR
VERSION:2.0
PRODID:-//D.O.C. Mittelfranken - ECPv6.15.20//NONSGML v1.0//EN
CALSCALE:GREGORIAN
METHOD:PUBLISH
X-WR-CALNAME:D.O.C. Mittelfranken
X-ORIGINAL-URL:https://www.doc-mittelfranken.de
X-WR-CALDESC:Veranstaltungen für D.O.C. Mittelfranken
REFRESH-INTERVAL;VALUE=DURATION:PT1H
X-Robots-Tag:noindex
X-PUBLISHED-TTL:PT1H
BEGIN:VTIMEZONE
TZID:UTC
BEGIN:STANDARD
TZOFFSETFROM:+0000
TZOFFSETTO:+0000
TZNAME:UTC
DTSTART:20240101T000000
END:STANDARD
END:VTIMEZONE
BEGIN:VEVENT
DTSTART;VALUE=DATE:20250911
DTEND;VALUE=DATE:20250915
DTSTAMP:20260423T040405
CREATED:20250317T120421Z
LAST-MODIFIED:20251023T071159Z
UID:482-1757548800-1757894399@www.doc-mittelfranken.de
SUMMARY:Ardennen-Eifel-Tour mit den Ducati Freunden Hessen
DESCRIPTION:Ardennen-Eifel-Tour mit den Ducati Freunden Hessen \nweitere Infos folgen
URL:https://www.doc-mittelfranken.de/event/ardennen-eifel-tour-mit-den-ducati-freunden-hessen/
END:VEVENT
END:VCALENDAR